BEGIN:VCALENDAR
VERSION:2.0
PRODID:-//destination.one//NONSGML destination.meta API//DE
X-WR-CALDESC:A calendar powered by destination.meta
X-WR-CALNAME:meinevulkaneifel Kalender via destination.meta
BEGIN:VEVENT
CATEGORIES:Event
CATEGORIES:dcls:Event
CATEGORIES:Kunsthandwerk
CATEGORIES:Markttag
CATEGORIES:Fest
DESCRIPTION:An Pfingsten\, 24. & 25. Mai 2026 findet in der Birgeler Mügle 
 ein Kuntshandwerker-\, Antik- & Trödelmarkt statt.\nHandwerkskunst\, Antiq
 uitäten & Trödel in idyllischem Ambiente.\nKulinarische Spezialitäten von 
 Erwin von der Mühle & Team\nNoch Standplätze frei! Jetzt als Aussteller/in
  anmelden.\nAntik- & Trödelmarkt\nFrank Pillokat\, Tel.: +49 157 54729322\
 , Mail: fpillokat@muehlebirgel.de\nKuntshandwerkermarkt\nAnita Niesen & Wo
 lfgang Bonefas\, Tel.: +49 176 78507407\, Mail: wolfgangbonefas@t-online.d
 e\n\nmehr Informationen unter http://pages.destination.one/de/meinevulkane
 ifel/streaming/detail/Event/F8B304E018BCD1AF854DB81D15582ACC/kunsthandwerk
 er-antik-tr-delmarkt
DTEND;TZID=Europe/Vienna:20260524T170000
DTSTAMP:20260422T090857Z
DTSTART;TZID=Europe/Vienna:20260524T110000
GEO:50.319626;6.617247
LOCATION:Kunsthandwerker-\, Antik- & Trödelmarkt\, Mühlenstraße 1\, Birgel
ORGANIZER;CN=Familie Wolfgang Bonefas:mailto:wolfgangbonefas@t-online.de
RRULE:FREQ=WEEKLY;UNTIL=20260525T150000;BYDAY=MO,TU,WE,TH,FR,SA,SU
SEQUENCE:0
SUMMARY:Kunsthandwerker-\, Antik- & Trödelmarkt
UID:F8B304E018BCD1AF854DB81D15582ACC_iv0
URL:http://pages.destination.one/de/meinevulkaneifel/streaming/detail/Event
 /F8B304E018BCD1AF854DB81D15582ACC/kunsthandwerker-antik-tr-delmarkt
END:VEVENT
BEGIN:VTIMEZONE
TZID:Europe/Vienna
X-LIC-LOCATION:Europe/Vienna
BEGIN:DAYLIGHT
DTSTART:19700329T020000
RRULE:FREQ=YEARLY;BYDAY=-1SU;BYMONTH=3
TZNAME:CEST
TZOFFSETFROM:+0100
TZOFFSETTO:+0200
END:DAYLIGHT
BEGIN:STANDARD
DTSTART:19701025T030000
RRULE:FREQ=YEARLY;BYDAY=-1SU;BYMONTH=10
TZNAME:CET
TZOFFSETFROM:+0200
TZOFFSETTO:+0100
END:STANDARD
END:VTIMEZONE
END:VCALENDAR
