BEGIN:VCALENDAR
VERSION:2.0
PRODID:-//destination.one//NONSGML destination.meta API//DE
X-WR-CALDESC:A calendar powered by destination.meta
X-WR-CALNAME:meinevulkaneifel Kalender via destination.meta
BEGIN:VEVENT
CATEGORIES:Event
CATEGORIES:dcls:Event
CATEGORIES:Sonstiges Konzert
CATEGORIES:Klassik
CATEGORIES:Bad Bertrich
CATEGORIES:GLV
DESCRIPTION:Das Saxophonquartett führt uns in neue Saxophonwelten\n\nmehr I
 nformationen unter http://pages.destination.one/de/meinevulkaneifel/stream
 ing/detail/Event/E9B6F8DD204BCC31B2D989353B8F7169/saxophonquartett-clair-o
 bscur
DTEND;TZID=Europe/Vienna:20260904T220000
DTSTAMP:20260421T083953Z
DTSTART;TZID=Europe/Vienna:20260904T200000
GEO:50.070326;7.032506
LOCATION:Saxophonquartett clair-obscur\, Kurfürstenstr. 32\, Bad Bertrich
RRULE:FREQ=WEEKLY;UNTIL=20260904T200000;BYDAY=FR
SEQUENCE:0
SUMMARY:Saxophonquartett clair-obscur
UID:E9B6F8DD204BCC31B2D989353B8F7169_iv0
URL:http://pages.destination.one/de/meinevulkaneifel/streaming/detail/Event
 /E9B6F8DD204BCC31B2D989353B8F7169/saxophonquartett-clair-obscur
END:VEVENT
BEGIN:VTIMEZONE
TZID:Europe/Vienna
X-LIC-LOCATION:Europe/Vienna
BEGIN:DAYLIGHT
DTSTART:19700329T020000
RRULE:FREQ=YEARLY;BYDAY=-1SU;BYMONTH=3
TZNAME:CEST
TZOFFSETFROM:+0100
TZOFFSETTO:+0200
END:DAYLIGHT
BEGIN:STANDARD
DTSTART:19701025T030000
RRULE:FREQ=YEARLY;BYDAY=-1SU;BYMONTH=10
TZNAME:CET
TZOFFSETFROM:+0200
TZOFFSETTO:+0100
END:STANDARD
END:VTIMEZONE
END:VCALENDAR
