BEGIN:VCALENDAR
VERSION:2.0
PRODID:-//destination.one//NONSGML destination.meta API//DE
X-WR-CALDESC:A calendar powered by destination.meta
X-WR-CALNAME:meinevulkaneifel Kalender via destination.meta
BEGIN:VEVENT
CATEGORIES:Event
CATEGORIES:dcls:Event
CATEGORIES:Wandern & Berge
CATEGORIES:Führung
DESCRIPTION:Ca. 8 km über zumeist einfache Wege und 269 Höhenmeter - Eifelv
 erein Daun\n\nmehr Informationen unter http://pages.destination.one/de/mei
 nevulkaneifel/streaming/detail/Event/C3DC7A6B0466E58EDC41986CB5B91947/frau
 -holle-f-hrt-dampflok
DTEND;TZID=Europe/Vienna:20260425T153000
DTSTAMP:20260422T102515Z
DTSTART;TZID=Europe/Vienna:20260425T093000
GEO:50.198114;6.830133
LOCATION:Frau Holle fährt Dampflok\, Leopoldstraße 5\, Daun
ORGANIZER;CN=Eifelverein-Ortsgruppe Daun:mailto:post@eifelverein-daun.de
RRULE:FREQ=WEEKLY;UNTIL=20260425T133000;BYDAY=SA
SEQUENCE:0
SUMMARY:Frau Holle fährt Dampflok
UID:C3DC7A6B0466E58EDC41986CB5B91947_iv0
URL:http://pages.destination.one/de/meinevulkaneifel/streaming/detail/Event
 /C3DC7A6B0466E58EDC41986CB5B91947/frau-holle-f-hrt-dampflok
END:VEVENT
BEGIN:VTIMEZONE
TZID:Europe/Vienna
X-LIC-LOCATION:Europe/Vienna
BEGIN:DAYLIGHT
DTSTART:19700329T020000
RRULE:FREQ=YEARLY;BYDAY=-1SU;BYMONTH=3
TZNAME:CEST
TZOFFSETFROM:+0100
TZOFFSETTO:+0200
END:DAYLIGHT
BEGIN:STANDARD
DTSTART:19701025T030000
RRULE:FREQ=YEARLY;BYDAY=-1SU;BYMONTH=10
TZNAME:CET
TZOFFSETFROM:+0200
TZOFFSETTO:+0100
END:STANDARD
END:VTIMEZONE
END:VCALENDAR
