BEGIN:VCALENDAR
VERSION:2.0
PRODID:-//destination.one//NONSGML destination.meta API//DE
X-WR-CALDESC:A calendar powered by destination.meta
X-WR-CALNAME:meinevulkaneifel Kalender via destination.meta
BEGIN:VEVENT
CATEGORIES:Event
CATEGORIES:dcls:Event
CATEGORIES:Theater
CATEGORIES:Wein & Kulinarik (Saisonverlängerung)
DESCRIPTION:Der Museumsbahnhof Ahütte hat sich inzwischen als Location für 
 Live-Spielerlebnisse etabliert: Die Teilnehmer/innen übernehmen eine Rolle
  und versuchen ein Verbrechen zu verhindern oder aufzuklären. Erstmals ver
 anstaltet der Museumsbahnhof Ahütte dazu am 03.Mai auch ein Krimispiel\, w
 as weit über die Grenzen des Museumsbahnhofs hinaus geht.\n\nmehr Informat
 ionen unter http://pages.destination.one/de/meinevulkaneifel/streaming/det
 ail/Event/BFB8368A5CF453218B86D0424DC1B06E/krimi-wochenende-im-museumsbahn
 hof
DTEND;TZID=Europe/Vienna:20260502T194500
DTSTAMP:20260422T091016Z
DTSTART;TZID=Europe/Vienna:20260502T193000
GEO:50.338888;6.771111
LOCATION:Krimi-Wochenende im Museumsbahnhof\, Bahnhofstraße 9\, Üxheim-Ahüt
 te
ORGANIZER;CN=Museumsbahnhof Ahütte:mailto:bahnhofsvorsteher@bahnhofsleben.d
 e
RRULE:FREQ=WEEKLY;UNTIL=20260502T174500;BYDAY=SA
SEQUENCE:0
SUMMARY:Krimi-Wochenende im Museumsbahnhof
UID:BFB8368A5CF453218B86D0424DC1B06E_iv0
URL:http://pages.destination.one/de/meinevulkaneifel/streaming/detail/Event
 /BFB8368A5CF453218B86D0424DC1B06E/krimi-wochenende-im-museumsbahnhof
END:VEVENT
BEGIN:VEVENT
CATEGORIES:Event
CATEGORIES:dcls:Event
CATEGORIES:Theater
CATEGORIES:Wein & Kulinarik (Saisonverlängerung)
DESCRIPTION:Der Museumsbahnhof Ahütte hat sich inzwischen als Location für 
 Live-Spielerlebnisse etabliert: Die Teilnehmer/innen übernehmen eine Rolle
  und versuchen ein Verbrechen zu verhindern oder aufzuklären. Erstmals ver
 anstaltet der Museumsbahnhof Ahütte dazu am 03.Mai auch ein Krimispiel\, w
 as weit über die Grenzen des Museumsbahnhofs hinaus geht.\n\nmehr Informat
 ionen unter http://pages.destination.one/de/meinevulkaneifel/streaming/det
 ail/Event/BFB8368A5CF453218B86D0424DC1B06E/krimi-wochenende-im-museumsbahn
 hof
DTEND;TZID=Europe/Vienna:20260503T111500
DTSTAMP:20260422T091016Z
DTSTART;TZID=Europe/Vienna:20260503T110000
GEO:50.338888;6.771111
LOCATION:Krimi-Wochenende im Museumsbahnhof\, Bahnhofstraße 9\, Üxheim-Ahüt
 te
ORGANIZER;CN=Museumsbahnhof Ahütte:mailto:bahnhofsvorsteher@bahnhofsleben.d
 e
RRULE:FREQ=WEEKLY;UNTIL=20260503T091500;BYDAY=SU
SEQUENCE:0
SUMMARY:Krimi-Wochenende im Museumsbahnhof
UID:BFB8368A5CF453218B86D0424DC1B06E_iv1
URL:http://pages.destination.one/de/meinevulkaneifel/streaming/detail/Event
 /BFB8368A5CF453218B86D0424DC1B06E/krimi-wochenende-im-museumsbahnhof
END:VEVENT
BEGIN:VTIMEZONE
TZID:Europe/Vienna
X-LIC-LOCATION:Europe/Vienna
BEGIN:DAYLIGHT
DTSTART:19700329T020000
RRULE:FREQ=YEARLY;BYDAY=-1SU;BYMONTH=3
TZNAME:CEST
TZOFFSETFROM:+0100
TZOFFSETTO:+0200
END:DAYLIGHT
BEGIN:STANDARD
DTSTART:19701025T030000
RRULE:FREQ=YEARLY;BYDAY=-1SU;BYMONTH=10
TZNAME:CET
TZOFFSETFROM:+0200
TZOFFSETTO:+0100
END:STANDARD
END:VTIMEZONE
END:VCALENDAR
