BEGIN:VCALENDAR
VERSION:2.0
PRODID:-//destination.one//NONSGML destination.meta API//DE
X-WR-CALDESC:A calendar powered by destination.meta
X-WR-CALNAME:meinevulkaneifel Kalender via destination.meta
BEGIN:VEVENT
CATEGORIES:Event
CATEGORIES:dcls:Event
CATEGORIES:Wandern & Berge
DESCRIPTION:Herbstwanderung um Loogh und Niederehe\nWanderstrecke: 7 km (mi
 ttelschwer)\nTreffpunkt: Markt- und Messehalle Hillesheim\nWanderführung: 
 Martin Manheller\, Tel.: +49 6593 711\n \n\nmehr Informationen unter http:
 //pages.destination.one/de/meinevulkaneifel/streaming/detail/Event/AF6359C
 75605F2DB783A4CD6B16EE95E/eifelverein-hillesheim-herbstwanderung-um-loogh-
 und-niederehe
DTEND;TZID=Europe/Vienna:20261025T141500
DTSTAMP:20260421T110959Z
DTSTART;TZID=Europe/Vienna:20261025T140000
GEO:50.291071;6.670687
LOCATION:Eifelverein Hillesheim "Herbstwanderung um Loogh und Niederehe"\, 
 Am Viehmarkt\, Hillesheim
ORGANIZER;CN=Eifelverein Hillesheim:mailto:eifelverein-hillesheim@web.de
RRULE:FREQ=WEEKLY;UNTIL=20261025T131500;BYDAY=SU
SEQUENCE:0
SUMMARY:Eifelverein Hillesheim "Herbstwanderung um Loogh und Niederehe"
UID:AF6359C75605F2DB783A4CD6B16EE95E_iv0
URL:http://pages.destination.one/de/meinevulkaneifel/streaming/detail/Event
 /AF6359C75605F2DB783A4CD6B16EE95E/eifelverein-hillesheim-herbstwanderung-u
 m-loogh-und-niederehe
END:VEVENT
BEGIN:VTIMEZONE
TZID:Europe/Vienna
X-LIC-LOCATION:Europe/Vienna
BEGIN:DAYLIGHT
DTSTART:19700329T020000
RRULE:FREQ=YEARLY;BYDAY=-1SU;BYMONTH=3
TZNAME:CEST
TZOFFSETFROM:+0100
TZOFFSETTO:+0200
END:DAYLIGHT
BEGIN:STANDARD
DTSTART:19701025T030000
RRULE:FREQ=YEARLY;BYDAY=-1SU;BYMONTH=10
TZNAME:CET
TZOFFSETFROM:+0200
TZOFFSETTO:+0100
END:STANDARD
END:VTIMEZONE
END:VCALENDAR
