BEGIN:VCALENDAR
VERSION:2.0
PRODID:-//destination.one//NONSGML destination.meta API//DE
X-WR-CALDESC:A calendar powered by destination.meta
X-WR-CALNAME:meinevulkaneifel Kalender via destination.meta
BEGIN:VEVENT
CATEGORIES:Event
CATEGORIES:dcls:Event
CATEGORIES:Lesung
CATEGORIES:Vortrag
CATEGORIES:GLV
CATEGORIES:Regionale Veranstaltungen
DESCRIPTION:Mit Sicherheit Ahrtal\n\nmehr Informationen unter http://pages.
 destination.one/de/meinevulkaneifel/streaming/detail/Event/8C198B98EE16BDE
 0F30EC20903428E7F/lesung-auf-dem-vulkanhof-mit-eveline-lemke
DTEND;TZID=Europe/Vienna:20260829T111500
DTSTAMP:20260422T090853Z
DTSTART;TZID=Europe/Vienna:20260829T110000
GEO:50.198151;6.829607
LOCATION:Lesung auf dem Vulkanhof mit Eveline Lemke\, Vulkanstraße 29\, Gil
 lenfeld
ORGANIZER;CN=Vulkanhof Ziegenkäserei Tourismus und Dienstleistungen:mailto:
 klaus@vulkanhof.de
RRULE:FREQ=WEEKLY;UNTIL=20260829T091500;BYDAY=SA
SEQUENCE:0
SUMMARY:Lesung auf dem Vulkanhof mit Eveline Lemke
UID:8C198B98EE16BDE0F30EC20903428E7F_iv0
URL:http://pages.destination.one/de/meinevulkaneifel/streaming/detail/Event
 /8C198B98EE16BDE0F30EC20903428E7F/lesung-auf-dem-vulkanhof-mit-eveline-lem
 ke
END:VEVENT
BEGIN:VTIMEZONE
TZID:Europe/Vienna
X-LIC-LOCATION:Europe/Vienna
BEGIN:DAYLIGHT
DTSTART:19700329T020000
RRULE:FREQ=YEARLY;BYDAY=-1SU;BYMONTH=3
TZNAME:CEST
TZOFFSETFROM:+0100
TZOFFSETTO:+0200
END:DAYLIGHT
BEGIN:STANDARD
DTSTART:19701025T030000
RRULE:FREQ=YEARLY;BYDAY=-1SU;BYMONTH=10
TZNAME:CET
TZOFFSETFROM:+0200
TZOFFSETTO:+0100
END:STANDARD
END:VTIMEZONE
END:VCALENDAR
