BEGIN:VCALENDAR
VERSION:2.0
PRODID:-//destination.one//NONSGML destination.meta API//DE
X-WR-CALDESC:A calendar powered by destination.meta
X-WR-CALNAME:meinevulkaneifel Kalender via destination.meta
BEGIN:VEVENT
CATEGORIES:Event
CATEGORIES:dcls:Event
CATEGORIES:Natur- und Geopark
CATEGORIES:UNESCO Geopark Vulkaneifel/Naturpark Vulkaneifel
CATEGORIES:Exkursion
CATEGORIES:Wandern & Berge
DESCRIPTION:Die offengehaltenen Kalkmagerrasen bieten einer Vielzahl von se
 ltenen Pflanzenarten\, wie z.B. Katzenpfötchen\, Küchenschelle und über 10
  Orchideenarten wichtigen Lebensraum. Haben Sie Lust einige dieser botanis
 chen Schönheiten zu entdecken\, dann führe ich Sie auf meiner ca. 4 km lan
 gen Wanderung zu diesen Standorten.\nPreis: pro Person 15\,00 €\nTreffpunk
 t: 54579 Niederehe (genauer Treffpunkt wird erst nach erfolgter Anmeldung 
 bekannt gegeben)\; Info/Anmeldung erforderlich: Hanspeter Mußler\, Mobil 0
 151 59113474\, E-Mail: musslerhp@web.de\; Mindestteilnehmerzahl: mind. 6 /
  max. 15 Personen\n\nmehr Informationen unter http://pages.destination.one
 /de/meinevulkaneifel/streaming/detail/Event/72E974EEAC24054E9B9AD20085F69C
 4D/wacholder-und-orchideezauber-am-h-nselberg
DTEND;TZID=Europe/Vienna:20260531T140000
DTSTAMP:20260421T101447Z
DTSTART;TZID=Europe/Vienna:20260531T100000
GEO:50.315475;6.716073
LOCATION:Wacholder- und Orchideezauber am Hönselberg\, \, 
ORGANIZER;CN=Herrn Hans Peter Mußler:mailto:musslerhp@web.de
RRULE:FREQ=WEEKLY;UNTIL=20260531T120000;BYDAY=SU
SEQUENCE:0
SUMMARY:Wacholder- und Orchideezauber am Hönselberg
UID:72E974EEAC24054E9B9AD20085F69C4D_iv0
URL:http://pages.destination.one/de/meinevulkaneifel/streaming/detail/Event
 /72E974EEAC24054E9B9AD20085F69C4D/wacholder-und-orchideezauber-am-h-nselbe
 rg
END:VEVENT
BEGIN:VTIMEZONE
TZID:Europe/Vienna
X-LIC-LOCATION:Europe/Vienna
BEGIN:DAYLIGHT
DTSTART:19700329T020000
RRULE:FREQ=YEARLY;BYDAY=-1SU;BYMONTH=3
TZNAME:CEST
TZOFFSETFROM:+0100
TZOFFSETTO:+0200
END:DAYLIGHT
BEGIN:STANDARD
DTSTART:19701025T030000
RRULE:FREQ=YEARLY;BYDAY=-1SU;BYMONTH=10
TZNAME:CET
TZOFFSETFROM:+0200
TZOFFSETTO:+0100
END:STANDARD
END:VTIMEZONE
END:VCALENDAR
