BEGIN:VCALENDAR
VERSION:2.0
PRODID:-//destination.one//NONSGML destination.meta API//DE
X-WR-CALDESC:A calendar powered by destination.meta
X-WR-CALNAME:meinevulkaneifel Kalender via destination.meta
BEGIN:VEVENT
CATEGORIES:Event
CATEGORIES:dcls:Event
CATEGORIES:Natur- und Geopark
CATEGORIES:UNESCO Geopark Vulkaneifel/Naturpark Vulkaneifel
CATEGORIES:Kurs & Seminar
CATEGORIES:Exkursion
CATEGORIES:Führung
DESCRIPTION:Wochenend-Pilzseminar für Anfänger: Fr. 11.09. um 10:00 Uhr + S
 a. 12.09. um 09:00 Uhr + So. 13.09.2026 um 09.00 Uhr | Fr. 02.10. um 10:00
  Uhr + Sa. 03.10. um 09:00 Uhr + So. 04.10.2026 um 09.00 Uhr\nDie Ökologie
  der Pilze\, die häufigsten Arten\, Speisepilze und ihre giftigen Doppelgä
 nger\, Sammel- und Zubereitungsregeln und die weitere Verwendbarkeit der P
 ilze u.a. werden thematisiert.\nÜbernachtungsmöglichkeit: Wohnmobil-Stellp
 latz Eifelland\, Glaadter Straße 16\, www.stellplatz-eifelland.de\nPreis: 
 Erw 115\,00 €\, Kinder 60\,00 € (zzgl. Kosten für das Pilzessen am Sonntag
  pro Person 10\,00 €)\nTreffpunkt: 54584 Jünkerath\, Auf den Eichen 1 (Pfa
 rrheim in Glaadt)\nInfo/Anmeldung erforderlich bis 04.09. bzw. 25.09.2026.
  Dr. Birgit Blosat (Dipl.-Biologin\, Pilzsachverständige DGfM)\, Schüllers
 tr. 9\, 54584 Jünkerath\, E-Mail: bblosat@t-online.de\,\nMindesteilnehmerz
 ahl: 7 Personen\, maximal 12 Personen\n\nmehr Informationen unter http://p
 ages.destination.one/de/meinevulkaneifel/streaming/detail/Event/5E21F48769
 8D1C6726FFB4A8EC84E6F9/wochenend-pilzseminar-f-r-anf-nger
DTEND;TZID=Europe/Vienna:20260911T180000
DTSTAMP:20260421T122059Z
DTSTART;TZID=Europe/Vienna:20260911T100000
GEO:50.352428;6.564879
LOCATION:Wochenend-Pilzseminar für Anfänger\, Auf den Eichen 1\, Jünkerath-
 Glaadt
ORGANIZER;CN=Frau Dr. Birgit Blosat:mailto:bblosat@t-online.de
RRULE:FREQ=WEEKLY;UNTIL=20260913T160000;BYDAY=FR,SA,SU
SEQUENCE:0
SUMMARY:Wochenend-Pilzseminar für Anfänger
UID:5E21F487698D1C6726FFB4A8EC84E6F9_iv0
URL:http://pages.destination.one/de/meinevulkaneifel/streaming/detail/Event
 /5E21F487698D1C6726FFB4A8EC84E6F9/wochenend-pilzseminar-f-r-anf-nger
END:VEVENT
BEGIN:VEVENT
CATEGORIES:Event
CATEGORIES:dcls:Event
CATEGORIES:Natur- und Geopark
CATEGORIES:UNESCO Geopark Vulkaneifel/Naturpark Vulkaneifel
CATEGORIES:Kurs & Seminar
CATEGORIES:Exkursion
CATEGORIES:Führung
DESCRIPTION:Wochenend-Pilzseminar für Anfänger: Fr. 11.09. um 10:00 Uhr + S
 a. 12.09. um 09:00 Uhr + So. 13.09.2026 um 09.00 Uhr | Fr. 02.10. um 10:00
  Uhr + Sa. 03.10. um 09:00 Uhr + So. 04.10.2026 um 09.00 Uhr\nDie Ökologie
  der Pilze\, die häufigsten Arten\, Speisepilze und ihre giftigen Doppelgä
 nger\, Sammel- und Zubereitungsregeln und die weitere Verwendbarkeit der P
 ilze u.a. werden thematisiert.\nÜbernachtungsmöglichkeit: Wohnmobil-Stellp
 latz Eifelland\, Glaadter Straße 16\, www.stellplatz-eifelland.de\nPreis: 
 Erw 115\,00 €\, Kinder 60\,00 € (zzgl. Kosten für das Pilzessen am Sonntag
  pro Person 10\,00 €)\nTreffpunkt: 54584 Jünkerath\, Auf den Eichen 1 (Pfa
 rrheim in Glaadt)\nInfo/Anmeldung erforderlich bis 04.09. bzw. 25.09.2026.
  Dr. Birgit Blosat (Dipl.-Biologin\, Pilzsachverständige DGfM)\, Schüllers
 tr. 9\, 54584 Jünkerath\, E-Mail: bblosat@t-online.de\,\nMindesteilnehmerz
 ahl: 7 Personen\, maximal 12 Personen\n\nmehr Informationen unter http://p
 ages.destination.one/de/meinevulkaneifel/streaming/detail/Event/5E21F48769
 8D1C6726FFB4A8EC84E6F9/wochenend-pilzseminar-f-r-anf-nger
DTEND;TZID=Europe/Vienna:20261002T180000
DTSTAMP:20260421T122059Z
DTSTART;TZID=Europe/Vienna:20261002T100000
GEO:50.352428;6.564879
LOCATION:Wochenend-Pilzseminar für Anfänger\, Auf den Eichen 1\, Jünkerath-
 Glaadt
ORGANIZER;CN=Frau Dr. Birgit Blosat:mailto:bblosat@t-online.de
RRULE:FREQ=WEEKLY;UNTIL=20261004T160000;BYDAY=FR,SA,SU
SEQUENCE:0
SUMMARY:Wochenend-Pilzseminar für Anfänger
UID:5E21F487698D1C6726FFB4A8EC84E6F9_iv1
URL:http://pages.destination.one/de/meinevulkaneifel/streaming/detail/Event
 /5E21F487698D1C6726FFB4A8EC84E6F9/wochenend-pilzseminar-f-r-anf-nger
END:VEVENT
BEGIN:VTIMEZONE
TZID:Europe/Vienna
X-LIC-LOCATION:Europe/Vienna
BEGIN:DAYLIGHT
DTSTART:19700329T020000
RRULE:FREQ=YEARLY;BYDAY=-1SU;BYMONTH=3
TZNAME:CEST
TZOFFSETFROM:+0100
TZOFFSETTO:+0200
END:DAYLIGHT
BEGIN:STANDARD
DTSTART:19701025T030000
RRULE:FREQ=YEARLY;BYDAY=-1SU;BYMONTH=10
TZNAME:CET
TZOFFSETFROM:+0200
TZOFFSETTO:+0100
END:STANDARD
END:VTIMEZONE
END:VCALENDAR
