BEGIN:VCALENDAR
VERSION:2.0
PRODID:-//destination.one//NONSGML destination.meta API//DE
X-WR-CALDESC:A calendar powered by destination.meta
X-WR-CALNAME:meinevulkaneifel Kalender via destination.meta
BEGIN:VEVENT
CATEGORIES:Event
CATEGORIES:dcls:Event
CATEGORIES:Sonstiges Konzert
CATEGORIES:Bad Bertrich
CATEGORIES:GLV
CATEGORIES:Show
DESCRIPTION:Taucht ein in die Welt der großen Musicals!\n\nmehr Information
 en unter http://pages.destination.one/de/meinevulkaneifel/streaming/detail
 /Event/5CFA308693D22EE43F1AA5E669A51F41/musical-dinner-im-kulturraum
DTEND;TZID=Europe/Vienna:20251024T230000
DTSTAMP:20260421T084047Z
DTSTART;TZID=Europe/Vienna:20251024T190000
GEO:50.070485;7.032952
LOCATION:Musical-Dinner im KulturRaum\, Kurfürstenstr. 32 a\, Bad Bertrich
ORGANIZER;CN=BB Parkhotel Betriebsgesellschaft mbH - Betriebsstätte Fürsten
 hof:mailto:info@castlewood-hotels.com
RRULE:FREQ=WEEKLY;UNTIL=20251024T210000;BYDAY=FR
SEQUENCE:0
SUMMARY:Musical-Dinner im KulturRaum
UID:5CFA308693D22EE43F1AA5E669A51F41_iv0
URL:http://pages.destination.one/de/meinevulkaneifel/streaming/detail/Event
 /5CFA308693D22EE43F1AA5E669A51F41/musical-dinner-im-kulturraum
END:VEVENT
BEGIN:VEVENT
CATEGORIES:Event
CATEGORIES:dcls:Event
CATEGORIES:Sonstiges Konzert
CATEGORIES:Bad Bertrich
CATEGORIES:GLV
CATEGORIES:Show
DESCRIPTION:Taucht ein in die Welt der großen Musicals!\n\nmehr Information
 en unter http://pages.destination.one/de/meinevulkaneifel/streaming/detail
 /Event/5CFA308693D22EE43F1AA5E669A51F41/musical-dinner-im-kulturraum
DTEND;TZID=Europe/Vienna:20261203T220000
DTSTAMP:20260421T084047Z
DTSTART;TZID=Europe/Vienna:20261203T180000
GEO:50.070485;7.032952
LOCATION:Musical-Dinner im KulturRaum\, Kurfürstenstr. 32 a\, Bad Bertrich
ORGANIZER;CN=BB Parkhotel Betriebsgesellschaft mbH - Betriebsstätte Fürsten
 hof:mailto:info@castlewood-hotels.com
RRULE:FREQ=WEEKLY;UNTIL=20261203T210000;BYDAY=TH
SEQUENCE:0
SUMMARY:Musical-Dinner im KulturRaum
UID:5CFA308693D22EE43F1AA5E669A51F41_iv1
URL:http://pages.destination.one/de/meinevulkaneifel/streaming/detail/Event
 /5CFA308693D22EE43F1AA5E669A51F41/musical-dinner-im-kulturraum
END:VEVENT
BEGIN:VTIMEZONE
TZID:Europe/Vienna
X-LIC-LOCATION:Europe/Vienna
BEGIN:DAYLIGHT
DTSTART:19700329T020000
RRULE:FREQ=YEARLY;BYDAY=-1SU;BYMONTH=3
TZNAME:CEST
TZOFFSETFROM:+0100
TZOFFSETTO:+0200
END:DAYLIGHT
BEGIN:STANDARD
DTSTART:19701025T030000
RRULE:FREQ=YEARLY;BYDAY=-1SU;BYMONTH=10
TZNAME:CET
TZOFFSETFROM:+0200
TZOFFSETTO:+0100
END:STANDARD
END:VTIMEZONE
END:VCALENDAR
