BEGIN:VCALENDAR
VERSION:2.0
PRODID:-//destination.one//NONSGML destination.meta API//DE
X-WR-CALDESC:A calendar powered by destination.meta
X-WR-CALNAME:meinevulkaneifel Kalender via destination.meta
BEGIN:VEVENT
CATEGORIES:Event
CATEGORIES:dcls:Event
CATEGORIES:Wandern & Berge
DESCRIPTION:Altbekannt - Abendspaziergang mit Grillabend\, Singen am Lagerf
 euer\nWanderstrecke: 4 km\nTreffpunkt: Markt- und Messehalle Hillesheim\nW
 anderführung: Klaus Treitges\, Tel.: +49 6593 1889 und Stefanie Becker\, T
 el.: +49 6593 208579\n \n\nmehr Informationen unter http://pages.destinati
 on.one/de/meinevulkaneifel/streaming/detail/Event/56CC31DF38EAEAB1A95A7502
 143EAC03/eifelverein-hillesheim-abendspaziergang-mit-grillabend-singen-am-
 lagerfeuer
DTEND;TZID=Europe/Vienna:20260815T141500
DTSTAMP:20260421T101358Z
DTSTART;TZID=Europe/Vienna:20260815T140000
GEO:50.291071;6.670687
LOCATION:Eifelverein Hillesheim "Abendspaziergang mit Grillabend\, Singen a
 m Lagerfeuer"\, Am Viehmarkt\, Hillesheim
ORGANIZER;CN=Eifelverein Hillesheim:mailto:eifelverein-hillesheim@web.de
RRULE:FREQ=WEEKLY;UNTIL=20260815T121500;BYDAY=SA
SEQUENCE:0
SUMMARY:Eifelverein Hillesheim "Abendspaziergang mit Grillabend\, Singen am
  Lagerfeuer"
UID:56CC31DF38EAEAB1A95A7502143EAC03_iv0
URL:http://pages.destination.one/de/meinevulkaneifel/streaming/detail/Event
 /56CC31DF38EAEAB1A95A7502143EAC03/eifelverein-hillesheim-abendspaziergang-
 mit-grillabend-singen-am-lagerfeuer
END:VEVENT
BEGIN:VTIMEZONE
TZID:Europe/Vienna
X-LIC-LOCATION:Europe/Vienna
BEGIN:DAYLIGHT
DTSTART:19700329T020000
RRULE:FREQ=YEARLY;BYDAY=-1SU;BYMONTH=3
TZNAME:CEST
TZOFFSETFROM:+0100
TZOFFSETTO:+0200
END:DAYLIGHT
BEGIN:STANDARD
DTSTART:19701025T030000
RRULE:FREQ=YEARLY;BYDAY=-1SU;BYMONTH=10
TZNAME:CET
TZOFFSETFROM:+0200
TZOFFSETTO:+0100
END:STANDARD
END:VTIMEZONE
END:VCALENDAR
