BEGIN:VCALENDAR
VERSION:2.0
PRODID:-//destination.one//NONSGML destination.meta API//DE
X-WR-CALDESC:A calendar powered by destination.meta
X-WR-CALNAME:meinevulkaneifel Kalender via destination.meta
BEGIN:VEVENT
CATEGORIES:Event
CATEGORIES:dcls:Event
CATEGORIES:Kurs & Seminar
CATEGORIES:Wandern & Berge
DESCRIPTION:Mit Kräutlein\, die zum Licht sich strecken\, woll'n wir den Lö
 wen in uns wecken. Ist's uns zu kalt\, geht's nur kurz raus. Es wächst sch
 on sehr viel hinter'm Haus! Wir zaubern mit der Kräuterfee: Smoothie\, Sal
 ate oder Tee? Manch Kraut wird auch im Teig gebraten. Doch mehr wird jetzt
  noch nicht verraten. Und woll'n Sie nur spazieren gehen? Auch das wird kr
 äuterzauberschön.\nInfo/ Anmeldung: Andrea Häfele\, Tel.: +49 6591 8193207
 \, Handy (Whatsapp/ Telegram) +49 151 50734287\, Mail: andrea.haefele.eife
 l@freenet.de | Kosten: Erwachsene 15\,00 €\, Kinder (7-17 Jahre) in Beglei
 tung eines Elternteiles 5\,00 € | Paar 25\,00 € Mindestteilnehmer: Ab 2 Er
 wachsenen | Treffpunkt: Bewinger Straße 13 (oben)\, 54568 Gerolstein-Bewin
 gen\n\nmehr Informationen unter http://pages.destination.one/de/meinevulka
 neifel/streaming/detail/Event/4CE9925B8A4ACFD9259BF7BE2B079416/wildkr-uter
 -des-fr-hlings-entdecken-und-schmecken
DTEND;TZID=Europe/Vienna:20260307T120000
DTSTAMP:20260422T102931Z
DTSTART;TZID=Europe/Vienna:20260307T100000
GEO:50.250720;6.664447
LOCATION:Wildkräuter des Frühlings entdecken und schmecken\, Bewinger Straß
 e 13\, Gerolstein OT Bewingen
RRULE:FREQ=WEEKLY;UNTIL=20260414T100000;BYDAY=TU
SEQUENCE:0
SUMMARY:Wildkräuter des Frühlings entdecken und schmecken
UID:4CE9925B8A4ACFD9259BF7BE2B079416_iv0
URL:http://pages.destination.one/de/meinevulkaneifel/streaming/detail/Event
 /4CE9925B8A4ACFD9259BF7BE2B079416/wildkr-uter-des-fr-hlings-entdecken-und-
 schmecken
END:VEVENT
BEGIN:VEVENT
CATEGORIES:Event
CATEGORIES:dcls:Event
CATEGORIES:Kurs & Seminar
CATEGORIES:Wandern & Berge
DESCRIPTION:Mit Kräutlein\, die zum Licht sich strecken\, woll'n wir den Lö
 wen in uns wecken. Ist's uns zu kalt\, geht's nur kurz raus. Es wächst sch
 on sehr viel hinter'm Haus! Wir zaubern mit der Kräuterfee: Smoothie\, Sal
 ate oder Tee? Manch Kraut wird auch im Teig gebraten. Doch mehr wird jetzt
  noch nicht verraten. Und woll'n Sie nur spazieren gehen? Auch das wird kr
 äuterzauberschön.\nInfo/ Anmeldung: Andrea Häfele\, Tel.: +49 6591 8193207
 \, Handy (Whatsapp/ Telegram) +49 151 50734287\, Mail: andrea.haefele.eife
 l@freenet.de | Kosten: Erwachsene 15\,00 €\, Kinder (7-17 Jahre) in Beglei
 tung eines Elternteiles 5\,00 € | Paar 25\,00 € Mindestteilnehmer: Ab 2 Er
 wachsenen | Treffpunkt: Bewinger Straße 13 (oben)\, 54568 Gerolstein-Bewin
 gen\n\nmehr Informationen unter http://pages.destination.one/de/meinevulka
 neifel/streaming/detail/Event/4CE9925B8A4ACFD9259BF7BE2B079416/wildkr-uter
 -des-fr-hlings-entdecken-und-schmecken
DTEND;TZID=Europe/Vienna:20260307T170000
DTSTAMP:20260422T102931Z
DTSTART;TZID=Europe/Vienna:20260307T150000
GEO:50.250720;6.664447
LOCATION:Wildkräuter des Frühlings entdecken und schmecken\, Bewinger Straß
 e 13\, Gerolstein OT Bewingen
RRULE:FREQ=WEEKLY;UNTIL=20260411T150000;BYDAY=SA
SEQUENCE:0
SUMMARY:Wildkräuter des Frühlings entdecken und schmecken
UID:4CE9925B8A4ACFD9259BF7BE2B079416_iv1
URL:http://pages.destination.one/de/meinevulkaneifel/streaming/detail/Event
 /4CE9925B8A4ACFD9259BF7BE2B079416/wildkr-uter-des-fr-hlings-entdecken-und-
 schmecken
END:VEVENT
BEGIN:VEVENT
CATEGORIES:Event
CATEGORIES:dcls:Event
CATEGORIES:Kurs & Seminar
CATEGORIES:Wandern & Berge
DESCRIPTION:Mit Kräutlein\, die zum Licht sich strecken\, woll'n wir den Lö
 wen in uns wecken. Ist's uns zu kalt\, geht's nur kurz raus. Es wächst sch
 on sehr viel hinter'm Haus! Wir zaubern mit der Kräuterfee: Smoothie\, Sal
 ate oder Tee? Manch Kraut wird auch im Teig gebraten. Doch mehr wird jetzt
  noch nicht verraten. Und woll'n Sie nur spazieren gehen? Auch das wird kr
 äuterzauberschön.\nInfo/ Anmeldung: Andrea Häfele\, Tel.: +49 6591 8193207
 \, Handy (Whatsapp/ Telegram) +49 151 50734287\, Mail: andrea.haefele.eife
 l@freenet.de | Kosten: Erwachsene 15\,00 €\, Kinder (7-17 Jahre) in Beglei
 tung eines Elternteiles 5\,00 € | Paar 25\,00 € Mindestteilnehmer: Ab 2 Er
 wachsenen | Treffpunkt: Bewinger Straße 13 (oben)\, 54568 Gerolstein-Bewin
 gen\n\nmehr Informationen unter http://pages.destination.one/de/meinevulka
 neifel/streaming/detail/Event/4CE9925B8A4ACFD9259BF7BE2B079416/wildkr-uter
 -des-fr-hlings-entdecken-und-schmecken
DTEND;TZID=Europe/Vienna:20260419T130000
DTSTAMP:20260422T102931Z
DTSTART;TZID=Europe/Vienna:20260419T110000
GEO:50.250720;6.664447
LOCATION:Wildkräuter des Frühlings entdecken und schmecken\, Bewinger Straß
 e 13\, Gerolstein OT Bewingen
RRULE:FREQ=WEEKLY;UNTIL=20260419T110000;BYDAY=SU
SEQUENCE:0
SUMMARY:Wildkräuter des Frühlings entdecken und schmecken
UID:4CE9925B8A4ACFD9259BF7BE2B079416_iv2
URL:http://pages.destination.one/de/meinevulkaneifel/streaming/detail/Event
 /4CE9925B8A4ACFD9259BF7BE2B079416/wildkr-uter-des-fr-hlings-entdecken-und-
 schmecken
END:VEVENT
BEGIN:VEVENT
CATEGORIES:Event
CATEGORIES:dcls:Event
CATEGORIES:Kurs & Seminar
CATEGORIES:Wandern & Berge
DESCRIPTION:Mit Kräutlein\, die zum Licht sich strecken\, woll'n wir den Lö
 wen in uns wecken. Ist's uns zu kalt\, geht's nur kurz raus. Es wächst sch
 on sehr viel hinter'm Haus! Wir zaubern mit der Kräuterfee: Smoothie\, Sal
 ate oder Tee? Manch Kraut wird auch im Teig gebraten. Doch mehr wird jetzt
  noch nicht verraten. Und woll'n Sie nur spazieren gehen? Auch das wird kr
 äuterzauberschön.\nInfo/ Anmeldung: Andrea Häfele\, Tel.: +49 6591 8193207
 \, Handy (Whatsapp/ Telegram) +49 151 50734287\, Mail: andrea.haefele.eife
 l@freenet.de | Kosten: Erwachsene 15\,00 €\, Kinder (7-17 Jahre) in Beglei
 tung eines Elternteiles 5\,00 € | Paar 25\,00 € Mindestteilnehmer: Ab 2 Er
 wachsenen | Treffpunkt: Bewinger Straße 13 (oben)\, 54568 Gerolstein-Bewin
 gen\n\nmehr Informationen unter http://pages.destination.one/de/meinevulka
 neifel/streaming/detail/Event/4CE9925B8A4ACFD9259BF7BE2B079416/wildkr-uter
 -des-fr-hlings-entdecken-und-schmecken
DTEND;TZID=Europe/Vienna:20260420T120000
DTSTAMP:20260422T102931Z
DTSTART;TZID=Europe/Vienna:20260420T100000
GEO:50.250720;6.664447
LOCATION:Wildkräuter des Frühlings entdecken und schmecken\, Bewinger Straß
 e 13\, Gerolstein OT Bewingen
RRULE:FREQ=WEEKLY;UNTIL=20260526T100000;BYDAY=TU
SEQUENCE:0
SUMMARY:Wildkräuter des Frühlings entdecken und schmecken
UID:4CE9925B8A4ACFD9259BF7BE2B079416_iv3
URL:http://pages.destination.one/de/meinevulkaneifel/streaming/detail/Event
 /4CE9925B8A4ACFD9259BF7BE2B079416/wildkr-uter-des-fr-hlings-entdecken-und-
 schmecken
END:VEVENT
BEGIN:VEVENT
CATEGORIES:Event
CATEGORIES:dcls:Event
CATEGORIES:Kurs & Seminar
CATEGORIES:Wandern & Berge
DESCRIPTION:Mit Kräutlein\, die zum Licht sich strecken\, woll'n wir den Lö
 wen in uns wecken. Ist's uns zu kalt\, geht's nur kurz raus. Es wächst sch
 on sehr viel hinter'm Haus! Wir zaubern mit der Kräuterfee: Smoothie\, Sal
 ate oder Tee? Manch Kraut wird auch im Teig gebraten. Doch mehr wird jetzt
  noch nicht verraten. Und woll'n Sie nur spazieren gehen? Auch das wird kr
 äuterzauberschön.\nInfo/ Anmeldung: Andrea Häfele\, Tel.: +49 6591 8193207
 \, Handy (Whatsapp/ Telegram) +49 151 50734287\, Mail: andrea.haefele.eife
 l@freenet.de | Kosten: Erwachsene 15\,00 €\, Kinder (7-17 Jahre) in Beglei
 tung eines Elternteiles 5\,00 € | Paar 25\,00 € Mindestteilnehmer: Ab 2 Er
 wachsenen | Treffpunkt: Bewinger Straße 13 (oben)\, 54568 Gerolstein-Bewin
 gen\n\nmehr Informationen unter http://pages.destination.one/de/meinevulka
 neifel/streaming/detail/Event/4CE9925B8A4ACFD9259BF7BE2B079416/wildkr-uter
 -des-fr-hlings-entdecken-und-schmecken
DTEND;TZID=Europe/Vienna:20260420T170000
DTSTAMP:20260422T102931Z
DTSTART;TZID=Europe/Vienna:20260420T150000
GEO:50.250720;6.664447
LOCATION:Wildkräuter des Frühlings entdecken und schmecken\, Bewinger Straß
 e 13\, Gerolstein OT Bewingen
RRULE:FREQ=WEEKLY;UNTIL=20260530T150000;BYDAY=SA
SEQUENCE:0
SUMMARY:Wildkräuter des Frühlings entdecken und schmecken
UID:4CE9925B8A4ACFD9259BF7BE2B079416_iv4
URL:http://pages.destination.one/de/meinevulkaneifel/streaming/detail/Event
 /4CE9925B8A4ACFD9259BF7BE2B079416/wildkr-uter-des-fr-hlings-entdecken-und-
 schmecken
END:VEVENT
BEGIN:VTIMEZONE
TZID:Europe/Vienna
X-LIC-LOCATION:Europe/Vienna
BEGIN:DAYLIGHT
DTSTART:19700329T020000
RRULE:FREQ=YEARLY;BYDAY=-1SU;BYMONTH=3
TZNAME:CEST
TZOFFSETFROM:+0100
TZOFFSETTO:+0200
END:DAYLIGHT
BEGIN:STANDARD
DTSTART:19701025T030000
RRULE:FREQ=YEARLY;BYDAY=-1SU;BYMONTH=10
TZNAME:CET
TZOFFSETFROM:+0200
TZOFFSETTO:+0100
END:STANDARD
END:VTIMEZONE
END:VCALENDAR
