BEGIN:VCALENDAR
VERSION:2.0
PRODID:-//destination.one//NONSGML destination.meta API//DE
X-WR-CALDESC:A calendar powered by destination.meta
X-WR-CALNAME:meinevulkaneifel Kalender via destination.meta
BEGIN:VEVENT
CATEGORIES:Event
CATEGORIES:dcls:Event
CATEGORIES:Daun
DESCRIPTION:Rund um Daun: Spuren sichern. Zeugen befragen. Verbrecher finde
 n.\n\nmehr Informationen unter http://pages.destination.one/de/meinevulkan
 eifel/streaming/detail/Event/31F028322949B152173EEA7CA6FF5EE5/ermittler-ge
 sucht-die-augen-der-vulkaneifel-ein-verbrechen-und-du-mittendrin
DTEND;TZID=Europe/Vienna:20260503T160000
DTSTAMP:20260422T092237Z
DTSTART;TZID=Europe/Vienna:20260503T110000
GEO:50.338888;6.771111
LOCATION:Ermittler gesucht - die "Augen der Vulkaneifel" ein Verbrechen und
  du mittendrin\, Bahnhofsstraße 9\, Üxheim
ORGANIZER;CN=Museumsbahnhof Ahütte:mailto:bahnhofsvorsteher@bahnhofsleben.d
 e
RRULE:FREQ=WEEKLY;UNTIL=20260503T140000;BYDAY=SU
SEQUENCE:0
SUMMARY:Ermittler gesucht - die "Augen der Vulkaneifel" ein Verbrechen und 
 du mittendrin
UID:31F028322949B152173EEA7CA6FF5EE5_iv0
URL:http://pages.destination.one/de/meinevulkaneifel/streaming/detail/Event
 /31F028322949B152173EEA7CA6FF5EE5/ermittler-gesucht-die-augen-der-vulkanei
 fel-ein-verbrechen-und-du-mittendrin
END:VEVENT
BEGIN:VEVENT
CATEGORIES:Event
CATEGORIES:dcls:Event
CATEGORIES:Daun
DESCRIPTION:Rund um Daun: Spuren sichern. Zeugen befragen. Verbrecher finde
 n.\n\nmehr Informationen unter http://pages.destination.one/de/meinevulkan
 eifel/streaming/detail/Event/31F028322949B152173EEA7CA6FF5EE5/ermittler-ge
 sucht-die-augen-der-vulkaneifel-ein-verbrechen-und-du-mittendrin
DTEND;TZID=Europe/Vienna:20260726T160000
DTSTAMP:20260422T092237Z
DTSTART;TZID=Europe/Vienna:20260726T110000
GEO:50.338888;6.771111
LOCATION:Ermittler gesucht - die "Augen der Vulkaneifel" ein Verbrechen und
  du mittendrin\, Bahnhofsstraße 9\, Üxheim
ORGANIZER;CN=Museumsbahnhof Ahütte:mailto:bahnhofsvorsteher@bahnhofsleben.d
 e
RRULE:FREQ=WEEKLY;UNTIL=20260726T140000;BYDAY=SU
SEQUENCE:0
SUMMARY:Ermittler gesucht - die "Augen der Vulkaneifel" ein Verbrechen und 
 du mittendrin
UID:31F028322949B152173EEA7CA6FF5EE5_iv1
URL:http://pages.destination.one/de/meinevulkaneifel/streaming/detail/Event
 /31F028322949B152173EEA7CA6FF5EE5/ermittler-gesucht-die-augen-der-vulkanei
 fel-ein-verbrechen-und-du-mittendrin
END:VEVENT
BEGIN:VTIMEZONE
TZID:Europe/Vienna
X-LIC-LOCATION:Europe/Vienna
BEGIN:DAYLIGHT
DTSTART:19700329T020000
RRULE:FREQ=YEARLY;BYDAY=-1SU;BYMONTH=3
TZNAME:CEST
TZOFFSETFROM:+0100
TZOFFSETTO:+0200
END:DAYLIGHT
BEGIN:STANDARD
DTSTART:19701025T030000
RRULE:FREQ=YEARLY;BYDAY=-1SU;BYMONTH=10
TZNAME:CET
TZOFFSETFROM:+0200
TZOFFSETTO:+0100
END:STANDARD
END:VTIMEZONE
END:VCALENDAR
