BEGIN:VCALENDAR
VERSION:2.0
PRODID:-//destination.one//NONSGML destination.meta API//DE
X-WR-CALDESC:A calendar powered by destination.meta
X-WR-CALNAME:meinevulkaneifel Kalender via destination.meta
BEGIN:VEVENT
CATEGORIES:Event
CATEGORIES:dcls:Event
CATEGORIES:Exkursion
DESCRIPTION:Am Donnerstag\, 23. April 2026 lädt der Eifelverein Daun zum Sa
 isonstart der Radwanderungen 50+ ein\n\nmehr Informationen unter http://pa
 ges.destination.one/de/meinevulkaneifel/streaming/detail/Event/2E2000C8B03
 A48C75BF40D462D9BCB0E/saisonstart-radwanderung-50-natur-aktiv-erleben
DTEND;TZID=Europe/Vienna:20260423T173000
DTSTAMP:20260422T091050Z
DTSTART;TZID=Europe/Vienna:20260423T133000
GEO:50.197850;6.835411
LOCATION:Saisonstart Radwanderung 50+: Natur aktiv erleben\, Bahnhofstr.\, 
 Daun
ORGANIZER;CN=Eifelverein-Ortsgruppe Daun:mailto:post@eifelverein-daun.de
RRULE:FREQ=WEEKLY;UNTIL=20260423T153000;BYDAY=TH
SEQUENCE:0
SUMMARY:Saisonstart Radwanderung 50+: Natur aktiv erleben
UID:2E2000C8B03A48C75BF40D462D9BCB0E_iv0
URL:http://pages.destination.one/de/meinevulkaneifel/streaming/detail/Event
 /2E2000C8B03A48C75BF40D462D9BCB0E/saisonstart-radwanderung-50-natur-aktiv-
 erleben
END:VEVENT
BEGIN:VTIMEZONE
TZID:Europe/Vienna
X-LIC-LOCATION:Europe/Vienna
BEGIN:DAYLIGHT
DTSTART:19700329T020000
RRULE:FREQ=YEARLY;BYDAY=-1SU;BYMONTH=3
TZNAME:CEST
TZOFFSETFROM:+0100
TZOFFSETTO:+0200
END:DAYLIGHT
BEGIN:STANDARD
DTSTART:19701025T030000
RRULE:FREQ=YEARLY;BYDAY=-1SU;BYMONTH=10
TZNAME:CET
TZOFFSETFROM:+0200
TZOFFSETTO:+0100
END:STANDARD
END:VTIMEZONE
END:VCALENDAR
