BEGIN:VCALENDAR
VERSION:2.0
PRODID:-//destination.one//NONSGML destination.meta API//DE
X-WR-CALDESC:A calendar powered by destination.meta
X-WR-CALNAME:meinevulkaneifel Kalender via destination.meta
BEGIN:VEVENT
CATEGORIES:Event
CATEGORIES:dcls:Event
CATEGORIES:Natur- und Geopark
CATEGORIES:GLV
CATEGORIES:UNESCO Geopark Vulkaneifel/Naturpark Vulkaneifel
CATEGORIES:Führung
CATEGORIES:Ferienveranstaltung / Ferienangebot
CATEGORIES:Kinderprogramm
CATEGORIES:Stadtführung
DESCRIPTION:Die Astronomische Vereinigung lädt zum zum Kinder-Ferienprogram
 m ein.\n\nmehr Informationen unter http://pages.destination.one/de/meinevu
 lkaneifel/streaming/detail/Event/19D5726C3813898BDBAE3FCEDCF64D36/ferienpr
 ogramm-f-r-kinder-wir-bauen-eine-rakete
DTEND;TZID=Europe/Vienna:20260630T173000
DTSTAMP:20260421T084046Z
DTSTART;TZID=Europe/Vienna:20260630T160000
GEO:50.161353;6.849375
LOCATION:Ferienprogramm für Kinder - Wir bauen eine Rakete\, \, Schalkenmeh
 ren
ORGANIZER;CN=Observatorium Hoher List:mailto:kontakt@hoher-list.de
RRULE:FREQ=WEEKLY;UNTIL=20260630T153000;BYDAY=TU
SEQUENCE:0
SUMMARY:Ferienprogramm für Kinder - Wir bauen eine Rakete
UID:19D5726C3813898BDBAE3FCEDCF64D36_iv0
URL:http://pages.destination.one/de/meinevulkaneifel/streaming/detail/Event
 /19D5726C3813898BDBAE3FCEDCF64D36/ferienprogramm-f-r-kinder-wir-bauen-eine
 -rakete
END:VEVENT
BEGIN:VEVENT
CATEGORIES:Event
CATEGORIES:dcls:Event
CATEGORIES:Natur- und Geopark
CATEGORIES:GLV
CATEGORIES:UNESCO Geopark Vulkaneifel/Naturpark Vulkaneifel
CATEGORIES:Führung
CATEGORIES:Ferienveranstaltung / Ferienangebot
CATEGORIES:Kinderprogramm
CATEGORIES:Stadtführung
DESCRIPTION:Die Astronomische Vereinigung lädt zum zum Kinder-Ferienprogram
 m ein.\n\nmehr Informationen unter http://pages.destination.one/de/meinevu
 lkaneifel/streaming/detail/Event/19D5726C3813898BDBAE3FCEDCF64D36/ferienpr
 ogramm-f-r-kinder-wir-bauen-eine-rakete
DTEND;TZID=Europe/Vienna:20260728T173000
DTSTAMP:20260421T084046Z
DTSTART;TZID=Europe/Vienna:20260728T160000
GEO:50.161353;6.849375
LOCATION:Ferienprogramm für Kinder - Wir bauen eine Rakete\, \, Schalkenmeh
 ren
ORGANIZER;CN=Observatorium Hoher List:mailto:kontakt@hoher-list.de
RRULE:FREQ=WEEKLY;UNTIL=20260728T153000;BYDAY=TU
SEQUENCE:0
SUMMARY:Ferienprogramm für Kinder - Wir bauen eine Rakete
UID:19D5726C3813898BDBAE3FCEDCF64D36_iv1
URL:http://pages.destination.one/de/meinevulkaneifel/streaming/detail/Event
 /19D5726C3813898BDBAE3FCEDCF64D36/ferienprogramm-f-r-kinder-wir-bauen-eine
 -rakete
END:VEVENT
BEGIN:VTIMEZONE
TZID:Europe/Vienna
X-LIC-LOCATION:Europe/Vienna
BEGIN:DAYLIGHT
DTSTART:19700329T020000
RRULE:FREQ=YEARLY;BYDAY=-1SU;BYMONTH=3
TZNAME:CEST
TZOFFSETFROM:+0100
TZOFFSETTO:+0200
END:DAYLIGHT
BEGIN:STANDARD
DTSTART:19701025T030000
RRULE:FREQ=YEARLY;BYDAY=-1SU;BYMONTH=10
TZNAME:CET
TZOFFSETFROM:+0200
TZOFFSETTO:+0100
END:STANDARD
END:VTIMEZONE
END:VCALENDAR
